BEGIN:VCALENDAR
VERSION:2.0
PRODID:-//Desoto County Historical Society - ECPv6.15.20//NONSGML v1.0//EN
CALSCALE:GREGORIAN
METHOD:PUBLISH
X-WR-CALNAME:Desoto County Historical Society
X-ORIGINAL-URL:https://historicdesoto.org
X-WR-CALDESC:Events for Desoto County Historical Society
REFRESH-INTERVAL;VALUE=DURATION:PT1H
X-Robots-Tag:noindex
X-PUBLISHED-TTL:PT1H
BEGIN:VTIMEZONE
TZID:America/New_York
BEGIN:DAYLIGHT
TZOFFSETFROM:-0500
TZOFFSETTO:-0400
TZNAME:EDT
DTSTART:20250309T070000
END:DAYLIGHT
BEGIN:STANDARD
TZOFFSETFROM:-0400
TZOFFSETTO:-0500
TZNAME:EST
DTSTART:20251102T060000
END:STANDARD
BEGIN:DAYLIGHT
TZOFFSETFROM:-0500
TZOFFSETTO:-0400
TZNAME:EDT
DTSTART:20260308T070000
END:DAYLIGHT
BEGIN:STANDARD
TZOFFSETFROM:-0400
TZOFFSETTO:-0500
TZNAME:EST
DTSTART:20261101T060000
END:STANDARD
BEGIN:DAYLIGHT
TZOFFSETFROM:-0500
TZOFFSETTO:-0400
TZNAME:EDT
DTSTART:20270314T070000
END:DAYLIGHT
BEGIN:STANDARD
TZOFFSETFROM:-0400
TZOFFSETTO:-0500
TZNAME:EST
DTSTART:20271107T060000
END:STANDARD
END:VTIMEZONE
BEGIN:VEVENT
DTSTART;TZID=America/New_York:20260501T100000
DTEND;TZID=America/New_York:20260501T120000
DTSTAMP:20260423T074538
CREATED:20260420T160244Z
LAST-MODIFIED:20260420T161020Z
UID:1520-1777629600-1777636800@historicdesoto.org
SUMMARY:Grand Reopening and Ribbon Cutting of the Historic John Morgan Ingraham House
DESCRIPTION:In celebration of America’s 250th Anniversary The DeSoto County Historical Society would like to invite you to the Grand Reopening and Ribbon Cutting of the Historic John Morgan Ingraham House\n– at –\n300 North Monroe Ave\n– on –\nFriday\, May 1\, 2026\,\n10:00am \nHors d’oeuvres will be served. Tours Provided
URL:https://historicdesoto.org/event/grand-reopening-and-ribbon-cutting-of-the-historic-john-morgan-ingraham-house/
LOCATION:John Morgan Ingraham House Museum\, 300 N Monroe Ave.\, Arcadia\, FL\, 34266\, United States
CATEGORIES:Community Events
ATTACH;FMTTYPE=image/jpeg:https://historicdesoto.org/wp-content/uploads/2026/04/DCHS-Ingraham-Reopening-Invitation-1.jpg
ORGANIZER;CN="The DeSoto County Historical Society":MAILTO:dchsocietyfl@gmail.com
END:VEVENT
END:VCALENDAR